    BEGIN:VCALENDAR
VERSION:2.0
PRODID:-//Newcastle Safeguarding - ECPv6.9.0//NONSGML v1.0//EN
CALSCALE:GREGORIAN
METHOD:PUBLISH
X-ORIGINAL-URL:https://newcastlesafeguardingchildren.org.uk
X-WR-CALDESC:Events for Newcastle Safeguarding
REFRESH-INTERVAL;VALUE=DURATION:PT1H
X-Robots-Tag:noindex
X-PUBLISHED-TTL:PT1H
BEGIN:VTIMEZONE
TZID:Europe/London
BEGIN:DAYLIGHT
TZOFFSETFROM:+0000
TZOFFSETTO:+0100
TZNAME:BST
DTSTART:20260329T010000
END:DAYLIGHT
BEGIN:STANDARD
TZOFFSETFROM:+0100
TZOFFSETTO:+0000
TZNAME:GMT
DTSTART:20261025T010000
END:STANDARD
END:VTIMEZONE
BEGIN:VEVENT
DTSTART;TZID=Europe/London:20260512T133000
DTEND;TZID=Europe/London:20260512T160000
DTSTAMP:20260418T092751
CREATED:20260223T094004Z
LAST-MODIFIED:20260224T092903Z
UID:10000520-1778592600-1778601600@newcastlesafeguardingchildren.org.uk
SUMMARY:Year of the Adolescent: Gaming and Gambling Awareness
DESCRIPTION:As part of the Year of the Adolescent\, this training series shines a spotlight on the growing issue of youth gambling and its impact on wellbeing\, decision‑making\, and future life chances. These sessions will explore how gambling behaviours develop\, why young people are particularly vulnerable\, and the subtle ways gambling-like mechanics appear in everyday environments—from online games to social media. \n\nThis series will equip practitioners with the knowledge and confidence to recognise early indicators\, understand associated risks\, and provide effective support and guidance. Whether you work directly with young people or support families and communities\, these sessions offer vital insight into a rapidly evolving safeguarding concern. \n\nThis 2.5 hour training is aimed at GPs\, nurses\, psychologists\, counsellors\, mental health practitioners\, social prescribers\, and other healthcare professionals. \nBook Now
URL:https://newcastlesafeguardingchildren.org.uk/event/health-and-social-care-workshop/
CATEGORIES:Training
END:VEVENT
END:VCALENDAR