    BEGIN:VCALENDAR
VERSION:2.0
PRODID:-//Newcastle Safeguarding - ECPv6.9.0//NONSGML v1.0//EN
CALSCALE:GREGORIAN
METHOD:PUBLISH
X-ORIGINAL-URL:https://newcastlesafeguardingchildren.org.uk
X-WR-CALDESC:Events for Newcastle Safeguarding
REFRESH-INTERVAL;VALUE=DURATION:PT1H
X-Robots-Tag:noindex
X-PUBLISHED-TTL:PT1H
BEGIN:VTIMEZONE
TZID:Europe/London
BEGIN:DAYLIGHT
TZOFFSETFROM:+0000
TZOFFSETTO:+0100
TZNAME:BST
DTSTART:20260329T010000
END:DAYLIGHT
BEGIN:STANDARD
TZOFFSETFROM:+0100
TZOFFSETTO:+0000
TZNAME:GMT
DTSTART:20261025T010000
END:STANDARD
END:VTIMEZONE
BEGIN:VEVENT
DTSTART;TZID=Europe/London:20260507T100000
DTEND;TZID=Europe/London:20260507T120000
DTSTAMP:20260418T093003
CREATED:20260108T121408Z
LAST-MODIFIED:20260126T123134Z
UID:10000489-1778148000-1778155200@newcastlesafeguardingchildren.org.uk
SUMMARY:Year of the Adolescent: The Online World
DESCRIPTION:As part of our Year of the Adolescent series\, this session explores the digital spaces where young people connect\, learn\, and grow. We’ll look at the opportunities and challenges of life online while considering the impact on wellbeing\, identity\, and safety. Join us to gain insights and practical strategies for supporting adolescents in navigating the online world confidently and responsibly.
URL:https://newcastlesafeguardingchildren.org.uk/event/year-of-the-adolescent-the-online-world/
LOCATION:Online
CATEGORIES:Training
ATTACH;FMTTYPE=image/png:https://newcastlesafeguardingchildren.org.uk/wp-content/uploads/2024/12/Action_for_Children_Logo-1.png
END:VEVENT
END:VCALENDAR